BEGIN:VCALENDAR
VERSION:2.0
PRODID:icalendar-ruby
CALSCALE:GREGORIAN
METHOD:PUBLISH
BEGIN:VEVENT
DTSTAMP:20260421T153744Z
UID:13-300260@sothneb.org
DTSTART:20260917T030000Z
DTEND:20260917T040000Z
CLASS:PUBLIC
CREATED:20260421T073246
DESCRIPTION:EPIC Night
LAST-MODIFIED:20260421T073246
LOCATION:
SUMMARY:EPIC Night
URL;VALUE=URI:https://www.sothneb.org/events/epic-night/2026-09-16
END:VEVENT
END:VCALENDAR
