BEGIN:VCALENDAR
VERSION:2.0
PRODID:icalendar-ruby
CALSCALE:GREGORIAN
METHOD:PUBLISH
BEGIN:VEVENT
DTSTAMP:20260421T190842Z
UID:13-300489@sothneb.org
DTSTART:20261001T030000Z
DTEND:20261001T040000Z
CLASS:PUBLIC
CREATED:20260421T101217
DESCRIPTION:EPIC Night
LAST-MODIFIED:20260421T101217
LOCATION:
SUMMARY:EPIC Night
URL;VALUE=URI:https://www.sothneb.org/events/epic-night/2026-09-30
END:VEVENT
END:VCALENDAR
