BEGIN:VCALENDAR
VERSION:2.0
PRODID:icalendar-ruby
CALSCALE:GREGORIAN
METHOD:PUBLISH
BEGIN:VEVENT
DTSTAMP:20260421T204427Z
UID:13-300717@sothneb.org
DTSTART:20261008T030000Z
DTEND:20261008T040000Z
CLASS:PUBLIC
CREATED:20260421T124835
DESCRIPTION:EPIC Night
LAST-MODIFIED:20260421T124835
LOCATION:
SUMMARY:EPIC Night
URL;VALUE=URI:https://www.sothneb.org/events/epic-night/2026-10-07
END:VEVENT
END:VCALENDAR
