BEGIN:VCALENDAR
VERSION:2.0
PRODID:icalendar-ruby
CALSCALE:GREGORIAN
METHOD:PUBLISH
BEGIN:VEVENT
DTSTAMP:20260421T223104Z
UID:13-300945@sothneb.org
DTSTART:20261015T030000Z
DTEND:20261015T040000Z
CLASS:PUBLIC
CREATED:20260421T152637
DESCRIPTION:EPIC Night
LAST-MODIFIED:20260421T152637
LOCATION:
SUMMARY:EPIC Night
URL;VALUE=URI:https://www.sothneb.org/events/epic-night/2026-10-14
END:VEVENT
END:VCALENDAR
