BEGIN:VCALENDAR
VERSION:2.0
PRODID:icalendar-ruby
CALSCALE:GREGORIAN
METHOD:PUBLISH
BEGIN:VEVENT
DTSTAMP:20260422T020737Z
UID:13-301174@sothneb.org
DTSTART:20261029T030000Z
DTEND:20261029T040000Z
CLASS:PUBLIC
CREATED:20260421T180525
DESCRIPTION:EPIC Night
LAST-MODIFIED:20260421T180525
LOCATION:
SUMMARY:EPIC Night
URL;VALUE=URI:https://www.sothneb.org/events/epic-night/2026-10-28
END:VEVENT
END:VCALENDAR
